BEGIN:VCALENDAR
VERSION:2.0
PRODID:-//Stadtgeschichte München//DE
CALSCALE:GREGORIAN
BEGIN:VEVENT
UID:10001@stadtgeschichte-muenchen.de
SUMMARY:. . . das rechte Original von Michelangelo
DESCRIPTION:
DTSTART:20140928T133000
DTEND:20140928T000000
LOCATION:Kasse Residenzmuseum
ORGANIZER:Bayerische Schlösserverwaltung
END:VEVENT
END:VCALENDAR