BEGIN:VCALENDAR
VERSION:2.0
PRODID:-//Stadtgeschichte München//DE
CALSCALE:GREGORIAN
BEGIN:VEVENT
UID:10004@stadtgeschichte-muenchen.de
SUMMARY:Olympiastadion - Zeltdach-Tour bei Sonnenuntergang
DESCRIPTION:Ein unvergessliches Erlebnis bietet diese Tour entlang dem Randseil des weltbekannten Olympiadaches: Besteigen eines Gipfels, herrliche Aussicht auf Münchens Stadtkulisse und die bayerischen Voralpen, Sonnenuntergang, Eintrag ins Gipfelbuch, Erläuterungen auf dem Dach. Zu Beginn wird ein Film über die Dachkonstruktion gezeigt. Bitte auf richtiges Schuhwerk (Joggingschuhe, Schuhe mit Gummisohle) achten. Seile und Karabiner werden gestellt. Die Führung ist für Teilnehmer/innen ab 16 Jahren geeignet. Bei zweifelhaftem Wetter können Sie sich bis 16.00 Uhr unter der Rufnummer 30672414 erkundigen. In Zusammenarbeit mit dem DGB Bildungswerk.
DTSTART:20140918T183000
DTEND:20140918T203000
LOCATION:Olympiastadion, Stadionkasse Nord
ORGANIZER:DGB-Bildungswerk Bayern e.V. Region München
END:VEVENT
END:VCALENDAR