BEGIN:VCALENDAR
VERSION:2.0
PRODID:-//Stadtgeschichte München//DE
CALSCALE:GREGORIAN
BEGIN:VEVENT
UID:10105@stadtgeschichte-muenchen.de
SUMMARY:Die bayerischen Herrscherinnen ‑ „ n u r Dekoration
DESCRIPTION:Nach dem Kaiserhof in Wien gehörte der Hof in München im 17. und 18. Jahrhundert zuden größten im Alten Reich. Ein Rundgang durch die Residenz spürt der Fragenach,welche Rolle ‘Ü den Frauenindiesem komplexenGefügezukam: Waren sie wirklich nur Begleitung und „Dekoration“ der Männer? Neue Forschungen zeigen, dass es den Frauen gelang,eigene PositionenzubesetzenundhierVorbildfunktion zuerlangen.
DTSTART:20141114T140000
DTEND:20141114T153000
LOCATION:Residenzmuseum(Kassenraum), Max-Joseph-Platz 3
ORGANIZER:Münchner Bildungswerk e.V.
END:VEVENT
END:VCALENDAR