BEGIN:VCALENDAR
VERSION:2.0
PRODID:-//Stadtgeschichte München//DE
CALSCALE:GREGORIAN
BEGIN:VEVENT
UID:10109@stadtgeschichte-muenchen.de
SUMMARY:Mit Leib und Seele
DESCRIPTION:Die Kunsthalle zeigt in Kooperation mit dem Diözesanmuseum Freising eine Ausstellung zum Münchner Rokoko. Im Mittelpunkt stehen herausragende Künstlerwie die Asam-Brüder Cosmas Damian und Egid Ouirin, Johann Baptist Straub, Franz Anton Bustelli und Ignaz Günther. Gezeigt werden vor allem Skulpturen, aber auch Porzellan, Silberarbeiten, Gemälde und Zeichnungen. Die Ausstellung bietet einen frischen Blick auf diese bedeutende Epoche, deren Kunstwerke durch ihre raffiniert-elegante Körperlichkeit und tiefe Spiritualität‐ mit „Leib und Seele“ ‐ inden Dialog mit dem Betrachtertreten.
DTSTART:20140205T150000
DTEND:20140205T163000
LOCATION:Kunsthalleder Hypo-Kulturstiftung, Theatiner Str. 8,
ORGANIZER:Münchner Bildungswerk e.V.
END:VEVENT
END:VCALENDAR