BEGIN:VCALENDAR
VERSION:2.0
PRODID:-//Stadtgeschichte München//DE
CALSCALE:GREGORIAN
BEGIN:VEVENT
UID:10117@stadtgeschichte-muenchen.de
SUMMARY:„Arisierung\" in München
DESCRIPTION:„Deutsche! Wehrt Euch! Kauft nicht bei Juden! ” Unter Parolen wie dieser begannam 1.April 1933 ein reichsweiter Boykott jüdischer Geschäfte und Einrichtungen. Mit zahlreichen Gesetzen und Verordnungen wurden jüdische Bürger und Kaufleute aus dem Geschäftsleben verdrängt. Nach den Zerstörungen vieler Geschäfte in der Reichspogromnacht im November 1938 folgte die Verschärfungder antisemitischen Maßnahmen. Jetzt wurden die jüdischen Besitzer zur Aufgabe ihrer Geschäfte gezwungen. Diesen staatlich organisierten Raub bezeichneten die Behörden beschönigend als „Arisierung\" Bei unserem Rundgang besuchen wir einige der Orte des damaligen Geschehens.&nbsp;
DTSTART:20141116T110000
DTEND:20141116T130000
LOCATION:Marienplatz, Fischbrunnen(Eingang zum Rathaus) 
ORGANIZER:MVHS München Mitte   
END:VEVENT
END:VCALENDAR