BEGIN:VCALENDAR
VERSION:2.0
PRODID:-//Stadtgeschichte München//DE
CALSCALE:GREGORIAN
BEGIN:VEVENT
UID:10118@stadtgeschichte-muenchen.de
SUMMARY:Ein verstecktes Juwel
DESCRIPTION:Der Architekt Georg von Hauberrisser hat das Münchner Rathaus in drei Bauabschnitten (1887‐1905) erbaut. Zum Jahresende 1906 konnten die letzten der 400 Zimmer ihrer Bestimmung übergeben und bezogen werden. Mit der juristischen Bibliothek gestaltete Hauberrisser einen der prächtigsten Räume im Rathaus, den wir bei unserem Rundgang besuchen. Die Glasfenster im Treppenhaus, die „Treppe des Lebens\" im Prunkhof und nicht zuletzt die Rathausfassade mit dem umfangreichen Fürstenzyklus erzählen weitere interessante Geschichten.&nbsp;
DTSTART:20141006T160000
DTEND:20141006T180000
LOCATION:Neues Rathaus (Eingang Fischbrunnen‚ beim Pförtner) - Marienplatz 8 
ORGANIZER:MVHS München Mitte   
END:VEVENT
END:VCALENDAR