BEGIN:VCALENDAR
VERSION:2.0
PRODID:-//Stadtgeschichte München//DE
CALSCALE:GREGORIAN
BEGIN:VEVENT
UID:10120@stadtgeschichte-muenchen.de
SUMMARY:Engagement in einer Tour
DESCRIPTION:Der Abend bietet Ihnen die Gelegenheit, unkompliziert Einblicke in einige Bereiche sozialer Arbeit in München zu erhalten. Sie lernen verschiedene Einrichtungen kennen, in denen Freiwillige aktiv sind. Mit dem MVV und zu Fuß (Wege bis 15 Min.) besuchen wir unterschiedliche Einrichtungen (2.8. Migrationsdienst, Altenheim, Frauenberatung), die ihre Arbeit vorstellen und zeigen, was an freiwilliger Tätigkeit bereits geleistet oder noch gebraucht wird. MVV&nbsp;Gruppenfahrkarte für alle Teilnehmer wird gestellt. In Kooperation mit dem Caritas-Zentrum München Innenstadt.&nbsp;
DTSTART:20141009T174500
DTEND:20141009T210000
LOCATION:Caritasverband München e.V. Hirtenstr. 4 (Haupteingang)
ORGANIZER:MVHS München Mitte   
END:VEVENT
END:VCALENDAR