BEGIN:VCALENDAR
VERSION:2.0
PRODID:-//Stadtgeschichte München//DE
CALSCALE:GREGORIAN
BEGIN:VEVENT
UID:10124@stadtgeschichte-muenchen.de
SUMMARY:Ganz in Ihrer Nähe ...
DESCRIPTION:Zur Kategorie der seltenen Handwerksberufe zählt der Beruf des Geigenbauers. Er&nbsp;verbindet handwerkliches Geschick mit musikalischem Einfühlungsvermögen. Die&nbsp;Geigenbaumeisterin Eva Lämmle bietet einen Einblick in ihre vielfältige&nbsp;Tätigkeit. Sie erzählt über den Neubau von Instrumenten, von der Holzwahl bis zum&nbsp;Lackieren mit Naturharzen, über Werkzeuge und die verschiedenen Arbeitsschritte,&nbsp;die nötig sind, um eine Geige zu bauen. Fragen rund um das Streichinstrument, die&nbsp;hierbei auftauchen, werden gerne beantwortet.
DTSTART:20150130T150000
DTEND:20150130T163000
LOCATION:Löwengrube 10
ORGANIZER:MVHS München Mitte   
END:VEVENT
END:VCALENDAR