BEGIN:VCALENDAR
VERSION:2.0
PRODID:-//Stadtgeschichte München//DE
CALSCALE:GREGORIAN
BEGIN:VEVENT
UID:10125@stadtgeschichte-muenchen.de
SUMMARY:Hilfe, meine Gäste wollen München kennenlernen!
DESCRIPTION:Wer kennt diese Situation nicht? Bei diesem Stadtspaziergang durch die Altstadtviertel lernen wir nicht nur historische Gebäude und Plätze kennen, auch verborgene Höfe und Altmünchner Winkel mit Tipps für Restaurants und Cafes gehören zu diesen Rundgängen
DTSTART:20141008T140000
DTEND:20141008T163000
LOCATION:Altes Rathaus (Eingang Spielzeugmuseum) i Marienplatz 15
ORGANIZER:MVHS München Mitte   
END:VEVENT
END:VCALENDAR