BEGIN:VCALENDAR
VERSION:2.0
PRODID:-//Stadtgeschichte München//DE
CALSCALE:GREGORIAN
BEGIN:VEVENT
UID:10132@stadtgeschichte-muenchen.de
SUMMARY:Vom Leben und Arbeiten in den Herbergsvierteln
DESCRIPTION:Da die besitz- und gewerbelosen Zuwanderer nicht innerhalb der Münchner Stadtmauern geduldet waren, mussten sie sich vor den Stadttoren auf der rechten lsarseite niederlassen. Tagelöhner, Handwerker und Kleinkrämer siedelten sich in Haidhausen, der Au und Untergiesing an und organisierten in ihren Herbergshäusern ein Zusammenleben auf engstem Raum. Die Herbergen gelten als Vorläufer der heutigen Eigentumswohnungen. Diesen Wohn- und Lebensverhältnissen wird bei der Führung nachgegangen.
DTSTART:20141005T140000
DTEND:20141005T163000
LOCATION:Max-Weber-Platz, U-Bahn-Ausstieg (an der Oberfläche)
ORGANIZER:MVHS München Mitte   
END:VEVENT
END:VCALENDAR