BEGIN:VCALENDAR
VERSION:2.0
PRODID:-//Stadtgeschichte München//DE
CALSCALE:GREGORIAN
BEGIN:VEVENT
UID:10135@stadtgeschichte-muenchen.de
SUMMARY:Drehorte in München entdecken
DESCRIPTION:Ob Meister \"Eder und sein Pumuckl\", Polizeiinspektion 1\" oder \"Die Hausmeisterin\". Es gibt viele großartige Serien und Filme, die in München spielen. In Haidhausen wurden in den letzten Jahrzehnten viele dieser Klassiker gedreht, weil sich hier das beschauliche, gemütliche und urige Flair des alten Münchens erhalten hat. Ein Rundgang zu den Schauplätzen, mit Anekdoten und Hintergrundinformationen zu den Schauspielern. Für&nbsp; Teilnehmer/innen ab 12Jahren geeignet.
DTSTART:20141004T150000
DTEND:20141004T170000
LOCATION: Ecke Sckellstraße/An der Kreppe
ORGANIZER:MVHS München Mitte   
END:VEVENT
END:VCALENDAR