BEGIN:VCALENDAR
VERSION:2.0
PRODID:-//Stadtgeschichte München//DE
CALSCALE:GREGORIAN
BEGIN:VEVENT
UID:10138@stadtgeschichte-muenchen.de
SUMMARY:Samsa, Goschnan und Baklava
DESCRIPTION:Das südliche Bahnhofsviertel - zwischen Hauptbahnhof und Unikliniken gelegen - ist geprägt durch eine Vielzahl von Läden mit Obst, Gemüse, Technikartikeln und Import-Export-Ware. Dazwischen liegen Imbisslokale, die mit exotischen Gerüchen und Gerichten die Kunden anlocken. Die Einflüsse von Kultur und Lebensweise prägen das Speiseangebot. Der Rundgang zeigt das Leben und Arbeiten im Viertel und wir probieren die Gerichte verschiedener Länder.
DTSTART:20141015T143000
DTEND:20141015T170000
LOCATION:Bayerstr. 27 (unter den Arkaden) 
ORGANIZER:MVHS München Mitte   
END:VEVENT
END:VCALENDAR