BEGIN:VCALENDAR
VERSION:2.0
PRODID:-//Stadtgeschichte München//DE
CALSCALE:GREGORIAN
BEGIN:VEVENT
UID:10139@stadtgeschichte-muenchen.de
SUMMARY:Schichtl, Krinoline und Kettenflieger
DESCRIPTION:Vor hundert Jahren versetzten das legendäre Wiesn-Variete von Papa Schichtl und die schwankende Plattform der Krinoline das Publikum noch in Stimmung, heute ist esein hart umkämpftes Geschäft und der Anspruch der Besucher hat sich verändert. Trotzdem haben „Traditionsgeschäfte“ nach wie vor ihren festen Platz auf dem Oktoberfest. Wir besuchen einige der altbekannten und bewährten Fahrgeschäfte und deren Betreiber werden uns von ihrem turbulenten Leben und Arbeiten auf dem Rummelplatz erzählen.
DTSTART:20141002T100000
DTEND:20141002T120000
LOCATION:Haupteingang Theresienwiese (Mahnmal)
ORGANIZER:MVHS München Mitte   
END:VEVENT
END:VCALENDAR