BEGIN:VCALENDAR
VERSION:2.0
PRODID:-//Stadtgeschichte München//DE
CALSCALE:GREGORIAN
BEGIN:VEVENT
UID:10143@stadtgeschichte-muenchen.de
SUMMARY:Die Wohnungsgenossenschaft München-West eG
DESCRIPTION:Wohnungsgenossenschaften haben in München eine lange Tradition und sind echte Alternativen für Menschen, die kein Eigentum erwerben wollen oder können, aber sicheren Wohnraum suchen. Seit über 100 Jahren sorgt die Wohnungsgenossenschaft München-West eG für eine gute und sozial verantwortbare Wohnraumversorgung ihrer Mitglieder. Die älteren Gebäude wurden renoviert und modernisiert und mit den grünen Oasen in den Innenhöfen sind sie heute Kleinode in der Großstadt. Der Verein Generationengerechtes Wohnen sorgt dafür, dass hier Jung und Alt und alle Nationen eine aktive, soziale Nachbarschaft erleben. Ludwig Wörner, Mitglied im Vorstand der Wohnungsgenossenschaft München‐West eG&nbsp;
DTSTART:20150114T180000
DTEND:20150114T193000
LOCATION:Barthstr. 15, Rgb (Gemeinschaftsraum) 
ORGANIZER:MVHS München Mitte   
END:VEVENT
END:VCALENDAR