BEGIN:VCALENDAR
VERSION:2.0
PRODID:-//Stadtgeschichte München//DE
CALSCALE:GREGORIAN
BEGIN:VEVENT
UID:10146@stadtgeschichte-muenchen.de
SUMMARY:Der Widerstand von Studenten gegen Hitler
DESCRIPTION:Lesen und Diskutieren allein genügen ihnen nicht mehr nach den Erfahrungen an der Front und den Massenmorden in Polen und Russland, von denen Freunde berichten. Im Juni 1942 handeln Alexander Schmorell und Hans Scholl. Sie verfassen und versenden die ersten vier Flugblätter der Weißen Rose.Am 18. Februar 1943 verteilten Hans und Sophie Scholl das sechste Flugblatt in der Universität. Als sie es von der Galerie im zweiten Stock in den Llchthof abwarfen, wurden sie verhaftet. Die Ausstellung erinnert an die studentische Widerstandsgruppe.&nbsp;
DTSTART:20150116T150000
DTEND:20150116T160000
LOCATION:LMU >DenkStätteWeiße Rose, Geschwister-ScholI-Platz 1 
ORGANIZER:MVHS München Mitte   
END:VEVENT
END:VCALENDAR