BEGIN:VCALENDAR
VERSION:2.0
PRODID:-//Stadtgeschichte München//DE
CALSCALE:GREGORIAN
BEGIN:VEVENT
UID:10154@stadtgeschichte-muenchen.de
SUMMARY:Senioren-Wohngemeinschaft am Ackermannbogen
DESCRIPTION:Das Wohnmodell bietet älteren und alleinstehenden Frauen die Möglichkeit, innerhalb einer sozialen Gemeinschaft zuwohnen, aber trotzdem in den eigenen vier Wänden. Selbstbestimmtes, nachbarschaftliches Zusammenleben mit gegenseitiger verbindlicher Verabredung von Hilfe und Unterstützung im Alltag und bei Krankheit ist das Ziel. Inhalte, Alltag und Erfahrungen des Projekteswerden vorgestellt.&nbsp;
DTSTART:20141017T150000
DTEND:20141017T170000
LOCATION:Ackermannstr./Ecke Therese-Studer‑ Str. 
ORGANIZER:MVHS München Mitte   
END:VEVENT
END:VCALENDAR