BEGIN:VCALENDAR
VERSION:2.0
PRODID:-//Stadtgeschichte München//DE
CALSCALE:GREGORIAN
BEGIN:VEVENT
UID:10155@stadtgeschichte-muenchen.de
SUMMARY:Auch sie hätten Denkmäler verdient
DESCRIPTION:Ihre Männer sind berühmt und füllen die Geschichtsbücher, doch sie&nbsp;bleiben stets im Hintergrund: die bayerischen Königinnen. Ihre wichtigste Aufgabe war den Fortbestand der Dynastie zu sichern und zu&nbsp;repräsentieren. Dabei kämpften sie für ihren protestantischen Glauben, gründeten Orden, entwarfen Bergsteigerkleidung, sorgten sich&nbsp;um Soldaten und bewirtschafteten ein Landgut. Erfahren Sie mehr&nbsp;über die Schicksale der bayerischen Königinnen Caroline, Therese,&nbsp;Marie und Marie Therese, von denen übrigens keine aus Bayern&nbsp;stammte. &nbsp;
DTSTART:20141022T140000
DTEND:20141022T153000
LOCATION:Max-Joseph-Platz am Denkmal
ORGANIZER:MVHS München Mitte   
END:VEVENT
END:VCALENDAR