BEGIN:VCALENDAR
VERSION:2.0
PRODID:-//Stadtgeschichte München//DE
CALSCALE:GREGORIAN
BEGIN:VEVENT
UID:10161@stadtgeschichte-muenchen.de
SUMMARY:Stadtentwicklung im Münchner Norden
DESCRIPTION:Der Münchner Norden hat sich in den vergangenen Jahren stark verändert. Auf den frei gewordenen Kasernenflächen entstehen attraktive neue Stadtviertel: Im Quartier „Nordhaide“ wohnen 6000 Menschen in preisgekrönter Architektur, angrenzend an die weitläufige Heidelandschaft. Auch auf der ehemaligen Funkkaserneund der Bayernkaserne wachsen neue Viertel. Eine Mischung aus verschiedenen Wohnformen, sozialen Einrichtungen und guter lnfrastruktur schafft lebendige neue Quartiere. In die Planung wurden auch die Bürgerinnen und Bürger frühzeitig eingebunden. Ein Mitarbeiter des Referatsfür Stadtplanung und Bauordnung stellt die aktuellen städtebaulichen und Iandschaftsplanerischen Konzepte für die Entwicklung des Münchner Nordens vor. In Kooperation mit dem Referat für Stadtplanung und Bauordnung.&nbsp;
DTSTART:20141029T190000
DTEND:20141029T210000
LOCATION:Volkshochschule -Troppauer Str. 10 
ORGANIZER:MVHS München Nord
END:VEVENT
END:VCALENDAR