BEGIN:VCALENDAR
VERSION:2.0
PRODID:-//Stadtgeschichte München//DE
CALSCALE:GREGORIAN
BEGIN:VEVENT
UID:10169@stadtgeschichte-muenchen.de
SUMMARY:„HZ-Meile\" im BMW Forschungs- und Innovationszentrum
DESCRIPTION:Die Entwicklung und Entstehung des Produkts Auto kann man eindrucksvoll bei einem Rundgang im BMW Forschungs- und Innovationszentrum (FIZ) erleben, das im Münchner Norden hochqualifizierte&nbsp;Arbeitsplätze für mehr&nbsp;als 10000 Mitarbeiter/innen bietet. Forschung&nbsp;und Entwicklungen für neue Antriebstechniken, Leichtbau, Rapid-Techniken und zu Aspekten der aktiven und passiven Sicherheit&nbsp;werden erläutert und verschiedene Labors besichtigt. Die Arbeit in&nbsp;vernetzten Strukturen wird dabei deutlich gemacht.
DTSTART:20150119T100000
DTEND:20150119T120000
LOCATION:Eingangshalle, Haupteingang, Knorrstr. 147 
ORGANIZER:MVHS München Nord
END:VEVENT
END:VCALENDAR