BEGIN:VCALENDAR
VERSION:2.0
PRODID:-//Stadtgeschichte München//DE
CALSCALE:GREGORIAN
BEGIN:VEVENT
UID:10181@stadtgeschichte-muenchen.de
SUMMARY:Verlagsstadt München: Der Langenscheidt Verlag
DESCRIPTION:München ist bekannt als Verlagsstadt, auch für Schul- und Sprachenbücher. Seit mehr als 150 Jahren ist Langenscheidt der Spezialist für Sprachen und beweist mit seinem innovativen und breiten Sortiment immer wieder neu, wie lebendig und spannend Sprache ist. Das Münchner Unternehmen ist die Nr. 1 bei Wörterbüchern und Marktführer im Buchhandel für alle, die Sprachen lernen wollen ‐ auch gutes Deutsch.&nbsp;
DTSTART:20141204T170000
DTEND:20141204T183000
LOCATION:Mies-van‐der-Rohe-Str. 5, Eingangsbereich
ORGANIZER:MVHS München Nord
END:VEVENT
END:VCALENDAR