BEGIN:VCALENDAR
VERSION:2.0
PRODID:-//Stadtgeschichte München//DE
CALSCALE:GREGORIAN
BEGIN:VEVENT
UID:10189@stadtgeschichte-muenchen.de
SUMMARY:Vereine stellen sich vor:
DESCRIPTION:Seit 1990 widmet sich der KulturhistorischeVerein Feldmoching auf dem Gfilde.V. der Erforschung, Darstellung und Verbreitung der Geschichte und der Volkskultur des heutigen Münchner Stadtteils Feldmoching. Feldmoching, der größte Ort auf dem „Gfild wie die Ebene zwischen Dachauer Moos und der Isar im Norden Münchens genannt wird, gehört zu den ältesten Siedlungen im Münchner Stadtgebiet. Der Verein sammelt historisch bedeutsame Dokumente, Fotografien und Gegenstände und bringt Interessierten die Geschichte Feldmochingsin zahlreichen Ausstellungen, Vorträgen undVeröffentlichungen näher. Langfristiges Ziel ist der Aufbau eines Heimatmuseums.&nbsp;
DTSTART:20150127T190000
DTEND:20150127T200000
LOCATION:Josef-Frankl-Str. 55
ORGANIZER:MVHS München Nord
END:VEVENT
END:VCALENDAR