BEGIN:VCALENDAR
VERSION:2.0
PRODID:-//Stadtgeschichte München//DE
CALSCALE:GREGORIAN
BEGIN:VEVENT
UID:10193@stadtgeschichte-muenchen.de
SUMMARY:Begrünter Tunnel und interessante Grünzüge im Münchner Norden
DESCRIPTION:Seit etwa zehn Jahren ist der starke Verkehr in den Petueltunnel verbannt worden. Darüber entstand der Petuelpark, der Schwabing und Milbertshofen seitdem optisch wiedervereint. Überd er „Röhre“ beherrschen Staudenpflanzungen, Ruheecken, Kunst und Spielplätze die Szene. Von dort führt unser Weg nach Norden über Oberhofer und Christoph-von-Gluck-Platz zum Aussiger Platz. Diese Grünzüge waren einst Teil einer Straßenbahntrasse und wurden in eine parkartige Landschaft mit Angeboten für Sport und Spiel umgewandelt. Auf unserem Spaziergang erfahren Sie Interessantes zur Geschichte und Funktion dieser Gartenräume, die das Wohnen im Münchner Norden lebenswerter machen.&nbsp;
DTSTART:20150208T110000
DTEND:20150208T130000
LOCATION:Petuelparkvor dem Cafe Ludwig (am Ende der Torquathasso-Str. im Zentrum des Petuelparks) 
ORGANIZER:MVHS München Nord
END:VEVENT
END:VCALENDAR