BEGIN:VCALENDAR
VERSION:2.0
PRODID:-//Stadtgeschichte München//DE
CALSCALE:GREGORIAN
BEGIN:VEVENT
UID:10195@stadtgeschichte-muenchen.de
SUMMARY:Das Olympische Dorf
DESCRIPTION:&lt;p&gt;Im Olympischen Dorf wohnten 1972 die Sportlerfinnen der Olympischen &amp;nbsp;Spiele. Heute ist eseine beliebte Wohnanlage für ca. 8000 &amp;nbsp;Menschen, &amp;nbsp;die sich durch ein besonderes architektonisches Konzept &amp;nbsp;auszeichnet: Als „Stadt in der Stadt“ geplant, &amp;nbsp;bietet sie den &amp;nbsp;Bewohner(inne)n eine vollständige Infrastruktur mit Ladenzentrum, Kinderbetreuung, Ärzten und Kirchengemeinden. &amp;nbsp;Durch die Trennung &amp;nbsp;von Auto- &amp;nbsp;und Fußgängerverkehr &amp;nbsp;und das grüne Umfeld ist das &amp;nbsp;„Dorf“ v.a. &amp;nbsp;bei Familien beliebt und erhielt 2006 einen Preis &amp;nbsp;im Wettbewerb „Kinder‐ und familienfreundliches Wohnumfeld&quot;. Seit 1998 &amp;nbsp;steht das Olympische Dorf im Ensemble mit den Sportstätten unter &amp;nbsp;Denkmalschutz. &amp;nbsp;&lt;/p&gt; 
DTSTART:20141122T110000
DTEND:20141122T130000
LOCATION:U3 Olympiazentrum, Ausgang  Olympisches Dorf 
ORGANIZER:MVHS München Nord
END:VEVENT
END:VCALENDAR