BEGIN:VCALENDAR
VERSION:2.0
PRODID:-//Stadtgeschichte München//DE
CALSCALE:GREGORIAN
BEGIN:VEVENT
UID:10199@stadtgeschichte-muenchen.de
SUMMARY:Besuch beim Bezirkstag des Regierungsbezirks Oberbayern
DESCRIPTION:Viele Menschen haben schon einmal von den Einrichtungen des Bezirks Oberbayern gehört, z.B.von den Bezirkskrankenhäusern, aber nur wenige kennen seine Aufgaben und Zuständigkeiten. Die Mitglieder des Bezirkstages (67 ehrenamtliche Bezirksrätinnen und Bezirksräte)werden alle fünf Jahre gewählt. Sie sind zuständig in den Bereichen Soziale Dienste, Gesundheit, (Aus)BiIdung, Kultur, Heimatpflege und Umwelt. Eine Bezirksrätin aus dem Stimmkreis München‐Giesing, Petra Tuttas, stellt Historie und Aufgaben des Bezirks vor und ihre Zuständigkeiten in den Bereichen Soziales (Menschen mit Behinderung) und Gesundheit (Psychiatrie).&nbsp;
DTSTART:20141120T170000
DTEND:20141120T190000
LOCATION:Bezirkstag Oberbayern \' Prinzregentenstr. 14 (Haupteingang Foyer)
ORGANIZER:MVHS München Ost
END:VEVENT
END:VCALENDAR