BEGIN:VCALENDAR
VERSION:2.0
PRODID:-//Stadtgeschichte München//DE
CALSCALE:GREGORIAN
BEGIN:VEVENT
UID:10201@stadtgeschichte-muenchen.de
SUMMARY:St. Stephan und St. Michael in Berg am Laim
DESCRIPTION:St. Stephan, eine der ältesten Kirchen Münchens, war über Jahrhunderte Pfarrkirche von Berg amLaim, Baumkirchen und Echarding. \' Die Kirche liegt inmitten eines von einer Mauer umgebenen Friedhofs, dessen historischen Anlagen bis heute liebevoll gepflegt werden. Die vorhandenen Grabmäler erzählen von der wechselvollen Geschichte des Kirchsprengels und seiner Bewohner. Der mächtige Kurfürst und Kölner Erzbischof aus dem bayerischen Herrscherhaus, Clemens August, ließ das Rokokojuwel St. Michael anstelle der Josephsburg erbauen. Der Wittelsbacher und die Michaelsbruderschaftengagierten die besten Künstler ihrer Zeit: J. M. Fischer, J. B.Zimmermann und J. B.Straub. Nun fertig renoviert, erstrahlt die Kirche mit ihren originalen Deckenfresken und kunstvollen Altären in neuem Glanz.&nbsp;
DTSTART:20141114T140000
DTEND:20141114T160000
LOCATION:vor St. Stephan\" Baumkirchner Platz (bei der Neumarkter Str.) 
ORGANIZER:MVHS München Ost
END:VEVENT
END:VCALENDAR