BEGIN:VCALENDAR
VERSION:2.0
PRODID:-//Stadtgeschichte München//DE
CALSCALE:GREGORIAN
BEGIN:VEVENT
UID:10202@stadtgeschichte-muenchen.de
SUMMARY:Kunstverlag Blanc
DESCRIPTION:&nbsp;ln der eher tristen Nachbarschaft eines Berg am Laimer Gewerbegebietes geht Meister Franz Duchatschan einer 150 Jahre alten Druckerpresse dem alten Handwerk des Kupferdrucks nach. Damit wird im Kunstverlag Blanc die Tradition des berühmten Fotografen und Lithografen Franz Hanfstaengl fortgeführt, dessen Erben 1980 die Kunstdruckerei Hanfstaengl aufgaben und über 2000 Original‑ Kupferdruckplatten sowie die historischen Druck- und Papierpresse an den Verleger Peter Blanc verkauften. Lassen Sie sich von einem der letzten Kupferdrucker Deutschlands in diese außergewöhnliche Traditionspflege einführen.&nbsp;
DTSTART:20141107T150000
DTEND:20141107T170000
LOCATION:Kunstverlag Blanc ‑ Levelingstr. 8 
ORGANIZER:MVHS München Ost
END:VEVENT
END:VCALENDAR