BEGIN:VCALENDAR
VERSION:2.0
PRODID:-//Stadtgeschichte München//DE
CALSCALE:GREGORIAN
BEGIN:VEVENT
UID:10221@stadtgeschichte-muenchen.de
SUMMARY:Die Frauen  und der Krieg
DESCRIPTION:1914 bis 1945: In einem Zeitraum von nur 31 Jahren hat die Münchner Bevölkerung zwei Weltkriege &nbsp;durchlebt und durchlitten. In beiden Kriegen waren die Frauen in andererWeise betroffen und gefordert als die Männer. Auf einem Rundgang &nbsp;durch die Innenstadt folgen wir den Spuren des Frauenlebens im Krieg und gehen dabei auch der Frage nach, welchen Anteil Frauen als Wählerinnen und Unterstützerinnen am Aufstieg Adolf Hitlers hatten. Dargestellt werden außerdem die Anliegen und Schicksale von Frauen, &nbsp;die sich dem Krieg und dem Erstarken der Nationalsozialisten entgegengestellt
DTSTART:20150517T140000
DTEND:20150517T153000
LOCATION:Marienplatz, am Fischbrunnen
ORGANIZER:MVHS München Mitte   
END:VEVENT
END:VCALENDAR