BEGIN:VCALENDAR
VERSION:2.0
PRODID:-//Stadtgeschichte München//DE
CALSCALE:GREGORIAN
BEGIN:VEVENT
UID:10226@stadtgeschichte-muenchen.de
SUMMARY:Der Wandel in  der Münchner Innenstadt
DESCRIPTION:Die Münchner lnnenstadt erlebt eine unglaublich rasante Veränderung. Wo gestern noch ein bekanntes Traditionsgeschäft stand, finden wir heute kühle Bürogebäude mit eintönigen Fassaden oder bunte Einkaufspassagen. Zwischen Bewahren und Verändern, die richtige Balance zu finden ist keine leichte Aufgabe. Wir begleiten Wolfgang Püschel, Mitglied des Bezirksausschusses AItstadt/Lehel zu bereits beendeten Projekten, und zu solchen, die noch im Entstehen sind und bei denen es noch viel Diskussionsbedarf gibt. &nbsp;
DTSTART:20150630T160000
DTEND:20150630T180000
LOCATION:Odeonsplatz, Tor zum  Hofgarten
ORGANIZER:MVHS München Mitte   
END:VEVENT
END:VCALENDAR