BEGIN:VCALENDAR
VERSION:2.0
PRODID:-//Stadtgeschichte München//DE
CALSCALE:GREGORIAN
BEGIN:VEVENT
UID:10229@stadtgeschichte-muenchen.de
SUMMARY:Spurensuche entlang  den inneren Stadtbächen
DESCRIPTION:Viele Bäche zogen sich früher durch die Altstadt und die Isarvorstadt und trugen wesentlich zum Aufstieg der Stadt bei. Sie versorgten Mühlen, den Stadtgraben, das erste Feuerwehrhaus und dienten zur Pferdetränke genauso wie als „Einschütt\" für den Abfall. Am heutigen Viktualienmarkt versorgte der Westliche Stadtgrabenbach einst das Heilig-Geist-Spital und später die Fischhändler mit Wasser. Viele Orte in der Altstadt erinnern noch an die damalige Bedeutung.
DTSTART:20150726T140000
DTEND:20150726T160000
LOCATION:Sendlinger Tor, unter dem Torbogen
ORGANIZER:MVHS München Mitte   
END:VEVENT
END:VCALENDAR