BEGIN:VCALENDAR
VERSION:2.0
PRODID:-//Stadtgeschichte München//DE
CALSCALE:GREGORIAN
BEGIN:VEVENT
UID:10239@stadtgeschichte-muenchen.de
SUMMARY:Luxushotel und Drogennotdienst ‐ mehr Kontrast  geht nicht
DESCRIPTION:Nirgendwo in Deutschland ist die Hoteldichte so groß wie hier. So vielfältig wie die Bewohner des Südlichen Bahnhofsviertels sind die Unterkünfte.Vom Luxushotel der Spitzenklasse, der gut geführten Pension bis zur Notunterkunft für Obdachlose und Drogenabhängige ‐ jeder Reisende, aber auch jeder Bedürftige findet (s)ein Quartier. Beim Rundgang besuchen wir die pulsierende und vielfältige Hotellandschaft und konträr dazu den Drogennotdienst L43, der eine zentrale Anlauf- und Beratungsstelle für Süchtige ist.
DTSTART:20150421T160000
DTEND:20150421T180000
LOCATION:Hotel Cristal rSchwanthalerstr.  36 
ORGANIZER:MVHS München Mitte   
END:VEVENT
END:VCALENDAR