BEGIN:VCALENDAR
VERSION:2.0
PRODID:-//Stadtgeschichte München//DE
CALSCALE:GREGORIAN
BEGIN:VEVENT
UID:10240@stadtgeschichte-muenchen.de
SUMMARY:O zapft werd - ein Blick auf die Vorbereitungen für das Oktoberfest
DESCRIPTION:Bereits im Juli beginnen die Aufbauarbeiten für das größte Volksfest der Welt. Beim Besuch des Servicezentrums unterhalb der Bavaria erfahren wir alles über die Organisation und was alles zum reibungslosen Ablauf für das Münchner Oktoberfest notwendig ist. Beim anschließenden Rundgang entlang dern Bauzaun reden wir über die Geschichte des Oktoberfestes und darüber, was die Einmaligkeit dieses Volksfestes ausmacht.
DTSTART:20150724T150000
DTEND:20150724T170000
LOCATION:an der Bavaria -Theresienhöhe 16
ORGANIZER:MVHS München Mitte   
END:VEVENT
END:VCALENDAR