BEGIN:VCALENDAR
VERSION:2.0
PRODID:-//Stadtgeschichte München//DE
CALSCALE:GREGORIAN
BEGIN:VEVENT
UID:10242@stadtgeschichte-muenchen.de
SUMMARY:kurz&amp;gut
DESCRIPTION:&lt;p&gt;Bei unserem Weg durch einen Teil der Isarvorstadt, dem „Wertel der verschwundenen Stadtbäche erkunden wir die Geschichte des ehemaligen Pesthauses, der Fabrik, in der „königliche&quot; Möbel hergestellt wurden, die „Obere Lände&quot; und die Westermühle am heute noch offen fließenden Westermühlbach. Nach einem kurzen Besuch auf dem Alten Südlichen Friedhof und einem Blick auf das Kapuziner kloster erreichen wir die Stadtteilbibliothek an der Kapuzinerstraße. Dort endet die Führung mit Empfehlungen einschlägiger Bücher zur Stadtgeschichte und einer heiteren Lesung.&lt;/p&gt; &lt;p&gt;kurz&amp;amp;gut ‐ ein Angebot der MVHS und der Münchner Stadtbibliothek&lt;/p&gt; 
DTSTART:20150619T150000
DTEND:20150619T170000
LOCATION:U-Bahn-Station Fraunhoferstr. (U1/U2,  oben  amLift)
ORGANIZER:MVHS München Mitte   
END:VEVENT
END:VCALENDAR