BEGIN:VCALENDAR
VERSION:2.0
PRODID:-//Stadtgeschichte München//DE
CALSCALE:GREGORIAN
BEGIN:VEVENT
UID:10248@stadtgeschichte-muenchen.de
SUMMARY:Gimpe, Kordel und Crepine: die Posamenten-Manufaktur
DESCRIPTION:Posamenten sind Verzierungen für textile Produkte wie Polstermöbel oder Vorhänge. Quasten und Kordeln gehören ebenso dazu, wie&nbsp;Zierbänder und Borten. Die Ursprünge dieser kleinteiligen Arbeit&nbsp;gehen bis ins 15. Jahrhundert vor Christus zurück. Auf nostalgisch&nbsp;anmutenden Geräten entstehen in der Posamenten Manufaktur aus&nbsp;einer kaum überschaubaren Vielfalt von Farben und Fäden einzigartige, individuell angefertigte Stücke.
DTSTART:20150417T103000
DTEND:20150417T113000
LOCATION:Gollierstr. 70 (Aufgang C, 2. Stock)
ORGANIZER:MVHS München Mitte   
END:VEVENT
END:VCALENDAR