BEGIN:VCALENDAR
VERSION:2.0
PRODID:-//Stadtgeschichte München//DE
CALSCALE:GREGORIAN
BEGIN:VEVENT
UID:10249@stadtgeschichte-muenchen.de
SUMMARY:Skandale und Affären bei den Wittelsbachern
DESCRIPTION:Sinnesfreude und Lebenslust standen nicht selten im Hause Wittelsbach hoch im Kurs, selbst wenn dies gelegentlich zu Lasten der Staatsgeschäfte ging. Weil ihm „schöne Frauen\" mehr behagten als die Bruderkämpfe, verzichtete Herzog Sigismund auf die Mitregierung, zog sich in die Blutenburg zurück und lebte mit einer Bürgerlichen zusammen. Um das Erbe Bayerns zu sichern, hätte Kurfürst Karl Theodor ein Kind anerkannt, das nicht seins war, und Ludwig l. riskierte und opferte für Lola Montez sogar den Thron. In Zusammenarbeit mit dem Fachgebiet Barrierefrei lernen. Wenn Sie einen Gebärdensprachdolmetscher oder eine Kursassistenz benötigen, senden Sie bitte eine E-Mail an barrierefrei-Iernen@mvhs.de oder rufen Sie uns an unter Telefon (089) 302008. &nbsp;
DTSTART:20150621T140000
DTEND:20150621T160000
LOCATION:Staatliche Antikensammlungen - Königsplatz 1
ORGANIZER:MVHS München Mitte   
END:VEVENT
END:VCALENDAR