BEGIN:VCALENDAR
VERSION:2.0
PRODID:-//Stadtgeschichte München//DE
CALSCALE:GREGORIAN
BEGIN:VEVENT
UID:10252@stadtgeschichte-muenchen.de
SUMMARY:Historische Gebäude, Plätze und berühmte Menschen
DESCRIPTION:Kennen Sie den Aufenthaltsort von Leninin Schwabing,das Wohnhaus von Bertolt Brechtoder das Geburtshaus von Franz Josef Strauß? Woher hat die Münchner Freiheit ihren Namen und wo lebten und wirkten die Geschwister Scholl? Auf den Schutthügeln des Kriegesk ämpften Sportler aus aller Welt um Medaillen und im Museenviertel spannt sich der zeitliche Bogen über zwei Jahrhunderte. Bei dieser Radexkursion (ca. 15 km) kommen Sie zu Plätzen und Gebäuden, die Geschichte schrieben in Kunst,Kultur und Politik. Die Radtour findet bei jedem Wetter statt. Bitte bringen Sie Ihr eigenes Fahrrad oder Pedelec mit.&nbsp;
DTSTART:20150719T110000
DTEND:20150719T140000
LOCATION:Start und Ende:Ludwig-Maximilians-Universität Prof. Huber Platz
ORGANIZER:MVHS München Mitte   
END:VEVENT
END:VCALENDAR