BEGIN:VCALENDAR
VERSION:2.0
PRODID:-//Stadtgeschichte München//DE
CALSCALE:GREGORIAN
BEGIN:VEVENT
UID:10260@stadtgeschichte-muenchen.de
SUMMARY:Drehorte in Schwabing entdecken - A bissl was geht immer 
DESCRIPTION:&lt;p&gt;Monaco Franze, der ewige Stenz, wurde von Helmut Fischer auf unnachahmlicheWeise verkörpert. Erfahren Sie, wie viel „Franze” in Helmut Fischer privat steckte und wo er seine legendäre Opern-Kritik verfasste. In Schwabing wandeln Sie dort, wo das charmante „Münchner Original“ mit seinen jungen Damenflanierte, undwo er zusammen mit dem „Kopfeck Manni” auf Frauenfang ging.&lt;/p&gt; 
DTSTART:20150905T170000
DTEND:20150905T190000
LOCATION:Münchner Freiheit/Ecke Hesseloherstr.
ORGANIZER:MVHS München Mitte   
END:VEVENT
END:VCALENDAR