BEGIN:VCALENDAR
VERSION:2.0
PRODID:-//Stadtgeschichte München//DE
CALSCALE:GREGORIAN
BEGIN:VEVENT
UID:10262@stadtgeschichte-muenchen.de
SUMMARY:Rund um den St.-Jakobs-Platz
DESCRIPTION:Der St.-Jakobs-Platz hat eine wechselreiche Geschichte zu erzählen. Ab 1310 fand hier jährlich die Jakobidult statt. Am Rande des Platzes entstanden das Zeughaus und der städtische Marstall. Ab 1575 wurde der Platz bebaut mit einem Seidenhaus. Auch entstand hier das erste Feuerwehrhaus in München. Die Kirche St. Jakob amAnger ist heute der Ausgangspunkt für den „Jakobsweg“ und in der Mitte des Platzes entstand ein neues, beachtenswertes Zentrum für das jüdische Leben in München. Nach einem Rundgang, Dauer ca. 45 Minuten, sehen wir uns im AIten- und Service-Zentrum Altstadt noch Bilder aus vergangener Zeit über den Jakobsplatz und das Angerviertel an. Wer möchte, kann sich dabei mit Kaffee und Kuchen verwöhnen, die zu günstigen Preisen angeboten werden.
DTSTART:20150331T140000
DTEND:20150331T150000
LOCATION:Alten- und Service-Zentrum Altstadt (Eingang) - Sebastiansplatz 12
ORGANIZER:MVHS München Mitte   
END:VEVENT
END:VCALENDAR