BEGIN:VCALENDAR
VERSION:2.0
PRODID:-//Stadtgeschichte München//DE
CALSCALE:GREGORIAN
BEGIN:VEVENT
UID:10273@stadtgeschichte-muenchen.de
SUMMARY:Verkehrskonzept für den Münchner Norden
DESCRIPTION:Das Verkehrsnetz im Münchner Norden ist bereits heute teilweise überlastet. Geplante Siedlungsenwvicklungen wie z‚B. in der Bayem‑ Kaserne und Kronprinz-Rupprecht-Kaserne werden das Verkehrsaufkommen weiter erhöhen. Bei einer Bürgerversammlungwurden Untersuchungsergebnisse und Lösungsansätze zur Verbesserung der Verkehrssituation ausführlich erläutert, umdie Öffentlichkeit zu beteiligen. Anschließend beriet der Münchner Stadtrat über die Weiterentwicklung des Verkehrskonzepts Münchner Norden. Am 24.9. schauen wir auf den aktuellen Stand der Entwicklungen: Ein Mitarbeiter des Referats für Stadtplanung und Bauordnung wird die wesentlichen Ziele des Verkehrskonzepts vorstellen: Verbesserung des Öffentlichen Nahverkehrs,Weiterentwicklung des Mobilitäts- und des Parkraummanagements, Verbesserung der Nahmobilität, Verlagerung des Güterverkehrs auf die Schiene und eine amöffentlichen Nahverkehr orientierte Siedlungspolitik. In Kooperation mit dem Referat für Stadtplanung und Bauordnung.
DTSTART:20150924T190000
DTEND:20150924T210000
LOCATION:Volkshochschule - Kulturzentrum 2411 - Blodigstr. 4
ORGANIZER:MVHS München Nord
END:VEVENT
END:VCALENDAR