BEGIN:VCALENDAR
VERSION:2.0
PRODID:-//Stadtgeschichte München//DE
CALSCALE:GREGORIAN
BEGIN:VEVENT
UID:10283@stadtgeschichte-muenchen.de
SUMMARY:Knorr-Bremse
DESCRIPTION:Der Knorr-Bremse Konzern, der seit mehr als 60 Jahren seinen Sitz&nbsp;im Münchner Norden hat, ist weltweit der führende Hersteller von&nbsp;Bremssystemen für Schienen- und Nutzfahrzeuge. Mit über 19.000&nbsp;Mitarbeitern an über 85 Standorten in 27 Ländern, davon rund 1.900 in&nbsp;München, treibt das Unternehmen als technologischer Schrittmacher seit&nbsp;über hundert Jahren maßgeblich Entwicklung, Produktion, Vertrieb und&nbsp;Service moderner Bremssysteme voran. Die Betriebsbesichtigung vermittelt einen Überblick über die&nbsp;Unternehmensziele, das Produktportfolio sowie die Produktion.
DTSTART:20150923T133000
DTEND:20150923T160000
LOCATION:Knorr-Bremse,  Pforte West, Am Oberwiesenfeld
ORGANIZER:MVHS München Nord
END:VEVENT
END:VCALENDAR