BEGIN:VCALENDAR
VERSION:2.0
PRODID:-//Stadtgeschichte München//DE
CALSCALE:GREGORIAN
BEGIN:VEVENT
UID:10293@stadtgeschichte-muenchen.de
SUMMARY:Pfennigparade- das Rehabilitationszentrum in München
DESCRIPTION:Einen Schulabschluss schaffen. Arbeiten können. ln einer eigenen Wohnung leben. Drei ganz normale Wünsche, die aber manchem Menschen mit einer Körperbehinderung unerreichbar erscheinen. Die Stiftung Pfennigparade hilft diese Wünsche zu venrvirklichen. Hinter der Erfolgsgeschichte Pfennigparade stehen in erster Linie die körperbehinderten Menschen selbst und deren Lebensmut. Mehr als 1500 körperbehinderte und über 1000 nicht behinderte Menschenwohnen, arbeiten und lernen heute zusammen in der Pfennigparade. Bei der Führung können auch Werkstätten verschiedenster künstlerischer Stilrichtungen und handwerkliche Produkte wie z.B.Keramikkunst oder Stuhlgeflecht besichtigt werden.
DTSTART:20150422T140000
DTEND:20150422T153000
LOCATION:Pfennigparade, Foyer im EG- Barlachstr. 28
ORGANIZER:MVHS München Nord
END:VEVENT
END:VCALENDAR