BEGIN:VCALENDAR
VERSION:2.0
PRODID:-//Stadtgeschichte München//DE
CALSCALE:GREGORIAN
BEGIN:VEVENT
UID:10294@stadtgeschichte-muenchen.de
SUMMARY:Hueber Verlag
DESCRIPTION:„Freude an Sprachen\" ‐ das ist das Motto des Münchner Hueber Verlags, der seit mehr als 90 Jahren Bücher in diesem Bereich verlegt. Aktuell sind Medien zu über 30 Sprachen im Angebot, vom Lehrbuch über Hörbücher und Lektüren bis zum Onlinekurs. Einen Schwerpunkt bildet im Verlagsprogrmm des Familienunternehmens die Vermittlung der deutschen Sprache. Bei der Führungam Firmensitz in Moosach können Sie nach einem Einblick in die Verlagsgeschichte hinter die Kulissen schauen und die Arbeitsabläufe in einem modernen Verlag kennenlernen. ‐ Führung &nbsp;-Treffpunkt: , &nbsp;-mi 15.30 bis 17.00 Uhr -6.5.2015 -€5.-‑ 15 Plätze
DTSTART:20150506T153000
DTEND:20150506T170000
LOCATION:Pforte Hueber Verlag, Baubergerstr. 30
ORGANIZER:MVHS München Nord
END:VEVENT
END:VCALENDAR