BEGIN:VCALENDAR
VERSION:2.0
PRODID:-//Stadtgeschichte München//DE
CALSCALE:GREGORIAN
BEGIN:VEVENT
UID:10295@stadtgeschichte-muenchen.de
SUMMARY:Die Deutsche Bundesbank: Falschgelderkennung in der Filiale München
DESCRIPTION:In der Informationsveranstaltung in der Filiale München werden vor Ort die vielfältigen&nbsp;Aufgaben der Deutschen Bundesbank auf nationaler, europäischer und internationaler Ebene&nbsp;vorgestellt. Unter anderem ist eine wichtige Aufgabe der Filiale im Münchner Norden die&nbsp;Erkennung von Falschgeld. Bei dieser Veranstaltung haben Sie auch die Möglichkeit, die&nbsp;Kriterien zur Falschgelderkennung an „echtem\" Falschgeld veranschaulicht zu bekommen.
DTSTART:20150630T163000
DTEND:20150630T183000
LOCATION:Schalterhalle im Dienstgebäude der Deutschen Bundesbank, Filiale München, Leopoldstr. 234
ORGANIZER:MVHS München Mitte   
END:VEVENT
END:VCALENDAR