BEGIN:VCALENDAR
VERSION:2.0
PRODID:-//Stadtgeschichte München//DE
CALSCALE:GREGORIAN
BEGIN:VEVENT
UID:10324@stadtgeschichte-muenchen.de
SUMMARY:Politik im Münchner Osten
DESCRIPTION:Im Alter von 25 Jahren kandidierte Ludwig Hartmann erstmals bei den Landtagswahlen 2003 im Stimmkreis München-Bogenhausen, dem auch die Stadtbezirke Au-Haidhausen und Berg am Laim angehören. 2008 gelang ihm der Einzug in den Bayerischen Landtag. In seiner ersten Wahlperiode übertrug ihm die Fraktion u.a. die Zuständigkeit für die wichtigen Zukunftsthemen Energie und Klimaschutz. Zudem machte er sich mit seinem Widerstand gegen die Bewerbung Münchens für die Winterspiele 2018 und 2022 einen Namen. Mit seinem erneuten Einzug in das Maximilianeum (2013) wurde er von der Grünen Landtagsfraktion zum Fraktionsvorsitzenden gewählt. Die Veranstaltung bietet das Erleben einer Plenardebatte, eine Diskussion mit Ludwig Hartmann, vorab einen Informationsfilmüber Aufgaben und Arbeitsweise des Landtags und abschließend einen kleinen Imbiss. Wichtig: Bitte Personalausweis mitbringen und beachten Sie, dass Handys und Taschen an der Garderobe abgegeben werden müssen.
DTSTART:20150311T150000
DTEND:20150311T180000
LOCATION:Maximilianeum, Westpforte
ORGANIZER:MVHS München Ost
END:VEVENT
END:VCALENDAR