BEGIN:VCALENDAR
VERSION:2.0
PRODID:-//Stadtgeschichte München//DE
CALSCALE:GREGORIAN
BEGIN:VEVENT
UID:10329@stadtgeschichte-muenchen.de
SUMMARY:König Ludwig I. und die Ordensniederlassungen in Berg am Laim
DESCRIPTION:Die in der Krankenpflegeund im Schulwesen aktiven Frauenkongregationen der Barmherzigen Schwestern und der Englischen Fräulein wurden durch König Ludwig&nbsp;I. nach Berg amLaim geholt. Die Barmherzigen Schwestern errichteten 1842 eine Filiale, die heute von den Schwestern als Alten‐ und Pflegeheiman der St.-Michael‑ Straße 16weiter geführt wird. 2007 zog auch das Mutterhaus mit der Kongregationsleitung nach Berg amLaim, in die Vinzenz-von‑ Paul-Straße 1. Die Englischen Fräulein errichteten 1840 ein Kloster mit Schule und Internat an der Josephsburgstraße. Die Maria-Ward‑ Mädchenrealschule führt deren 150‐jährige Tätigkeit bis heute fort. Führung durch die Archivarin Frau Dr. Susanne Kaup und die Historikerin Dr. Christl Knauer‐Nothaft.
DTSTART:20150917T150000
DTEND:20150917T170000
LOCATION:Kongregation der Barmherzigen Schwestern vom HI. Vinzenz von Paul  Vinzenz-von-PauI-Str. 1
ORGANIZER:MVHS München Ost
END:VEVENT
END:VCALENDAR