BEGIN:VCALENDAR
VERSION:2.0
PRODID:-//Stadtgeschichte München//DE
CALSCALE:GREGORIAN
BEGIN:VEVENT
UID:10331@stadtgeschichte-muenchen.de
SUMMARY:Bedeutende familiengeführte Buchverlage in Berg am Laim
DESCRIPTION:Der Callwey Verlag und der Volk Verlag in der Streitfeldstraße Bei Callwey, einem in vierter Generation von der Familie geführten Verlag zeigt uns Andreas Hagenkord die Produktion des Traditionshauses. Acht Fachzeitschriften undjährlich etwa 30 Bücher aus den Bereichen Architektur, Wohnen und Handwerk werden hier verlegt. lm 1997 von Michael Volk gegründeten Verlag erscheinen vor allem Bücher zur bayerischen Kultur und Geschichte. Für seine breitgefächerte Palette von hochwertigen Sachbüchem wurde der Verlag 2014 vom bayerischen Staat ausgezeichnet. Michael Volk stellt uns sein Programm vor.
DTSTART:20150319T180000
DTEND:20150319T200000
LOCATION:Callwey Verlag, vor dem Eingang - Streitfeldstr. 35
ORGANIZER:MVHS München Ost
END:VEVENT
END:VCALENDAR