BEGIN:VCALENDAR
VERSION:2.0
PRODID:-//Stadtgeschichte München//DE
CALSCALE:GREGORIAN
BEGIN:VEVENT
UID:10338@stadtgeschichte-muenchen.de
SUMMARY:Vom Friedensengel über den Shakespeareplatz zum Böhmerwaldplatz
DESCRIPTION:Auf dieser Tour erkunden wir drei auf ihreWeise interessante grüne Oasen in der Stadt. Der Shakespeareplatz und der Böhmerwaldplatz sind überschaubare, aber großzügig ausgestattete Grünanlagen mit interessanten Details. Sie dokumentieren die Ideen der Stadtplatzgestaltung zu Beginn des 20. Jahrhunderts. Ihnen stehen die ausgedehnten Maximiliansanlagen zwischen dem Gasteig und dem Friedhof Bogenhausen im landschaftlichen Stil der zweiten Hälfte des 19. Jahrhunderts gegenüber. Wir erkunden den Bereich umdie Prinzregententerrasse mit dem Friedensengel und klären dieFrage, was dieser Engel mit dem Frieden zu tun hat. Am Ende der Tour erleben wir zwei unterschiedliche Gartentypen unter gärtnerischen und städtebaulichen Aspekten.
DTSTART:20150627T140000
DTEND:20150627T160000
LOCATION:Friedensengel, am Monument - Europaplatz
ORGANIZER:MVHS München Ost
END:VEVENT
END:VCALENDAR