BEGIN:VCALENDAR
VERSION:2.0
PRODID:-//Stadtgeschichte München//DE
CALSCALE:GREGORIAN
BEGIN:VEVENT
UID:10342@stadtgeschichte-muenchen.de
SUMMARY:Das Prinzregententheater
DESCRIPTION:&lt;p&gt;Das über hundertjährige Prinzregententheater mit seiner modernen Theatertechnik ist neben dem Bayreuther Festspielhaus der einzige Theaterbau, der die Theateridee RichardWagners und die damit verbundene Architektur aufgreift. Heute ist esSitz der Bayerischen Theaterakademie, einer Ausbildungsstätte für neun Theaterberufe. Die Besucher erhalten Einblick in den amphitheatralischen Zuschauerraum, die Bühne und ‐ j e nach Möglichkeit ‐ in einen Teil der Werkstätten, in das Akademietheater und einige Betriebsräume. DerWeg führt zum Teil über enge Treppen und durch schmale Gänge und ist daher für_Personen mit Gehbehinderung nicht geeignet.&lt;/p&gt; 
DTSTART:20150430T160000
DTEND:20150430T173000
LOCATION:Prinzregententheater, Foyer - Prinzregentenplatz 12
ORGANIZER:MVHS München Ost
END:VEVENT
END:VCALENDAR