BEGIN:VCALENDAR
VERSION:2.0
PRODID:-//Stadtgeschichte München//DE
CALSCALE:GREGORIAN
BEGIN:VEVENT
UID:10346@stadtgeschichte-muenchen.de
SUMMARY:„Komm rein!
DESCRIPTION:Wie ist das eigentlich, wenn man amfremden Ort in einer Sprache empfangen wird, die man nicht versteht. Wir versuchen Ihnen einen Eindruck davon zu vermitteln, wie esFlüchtlingen geht, die in einer Münchner Erstaufnahmeeinrichtung ankommen, und geben amBeispiel eines Asylverfahrens Informationen über Herkunft, Rechtssituation und Aufenthaltsbedingungen der Asylbewerber in München. Außerdem erhalten Sie einen Einblick in das MVHS-Projekt „Komm rein“, mit dem Flüchtlingen ein erster Zugang zur deutschen Sprache und ihrer neuen Umgebungv ermittelt wird.
DTSTART:20151008T190000
DTEND:20151008T210000
LOCATION:McGraw Kaserne, Erstaufnahmeeinrichtung für Flüchtlinge -Tegernseer Landstr. 239 a
ORGANIZER:MVHS München Ost
END:VEVENT
END:VCALENDAR