BEGIN:VCALENDAR
VERSION:2.0
PRODID:-//Stadtgeschichte München//DE
CALSCALE:GREGORIAN
BEGIN:VEVENT
UID:10347@stadtgeschichte-muenchen.de
SUMMARY:Entlang dem Auer Mühlbach
DESCRIPTION:&lt;p&gt;Der (Auer) Mühlbachwar früher die Lebensader ganzer Siedlungen und von Gewerbe und Industriebetrieben. Schon im Mittelalter begann man, den Bach zu regulieren und seine Wasserkraft in Mühlenbetrieben zu nutzen. An seinen Ufern entstanden die ersten Sozialeinrichtungen (Unter-)Giesings: Das ehemalige Hofkrankenhaus, aus dem Anfang des 19.Jahrhunderts die „Giesinger Irrenanstalt&quot; hervorging. Auf unserem Spaziergang treffen wir auf ein altes Herbergshäusl, das in der Substanz 300 Jahre alt ist und heute noch bewohnt wird, bestaunen das biedermeierliche Häuser-Ensemble „Klein-Venedig“, stoßen auf ein privates Kraftwerk und erfahren Wissenswertes über das Kloster des („aufgelösten&quot;)Templer-Ritterordens. Durch eine gepflegte Kleingarten-Landschaft erreichen wir Siebenbrunn, wo wir einkehren und den Abend bei einer Brotzeit ausklingen lassen können.&amp;nbsp;&lt;/p&gt; 
DTSTART:20150903T170000
DTEND:20150903T190000
LOCATION:vor dem Alten- und Service-Zentrum (U1/U2 Kolumbusplatz) - Kolumbusstr. 33 
ORGANIZER:MVHS München Ost
END:VEVENT
END:VCALENDAR