BEGIN:VCALENDAR
VERSION:2.0
PRODID:-//Stadtgeschichte München//DE
CALSCALE:GREGORIAN
BEGIN:VEVENT
UID:10351@stadtgeschichte-muenchen.de
SUMMARY:Die Tegernseer Landstraße (TeLa)
DESCRIPTION:In ihrem Verlauf ändert die Tegernseer Landstraße ihren Charakter. Von einer Verkaufs‐ und Ladenstraße mit Stadtviertelzentrum am Tegernseer Platz mit Banken, Stadtbücherei, „TeLa‐Post\" und Gaststätten wird sie zum Teil des Mittleren Rings. Die Führung gibt Einblicke in den Künstlerhof von Konstantin Frick, der die „Giesinger Geschichtssäule” geschaffen hat, und die Kleinhaussiedlung der Theres Feldmüller, in Szenekneipen wie das „Schau mer amoi”, den Giesinger Stadtteilladen und den sogenannten „Grünspitz“, eine ehemalige Gebrauchtvvagen-Handelsfläche,die im Zuge der Sozialen Stadt bis auf Weiteres als Fläche für „Urban Gardening\" und Stadtteilkultur genutzt wird.&nbsp;
DTSTART:20150614T110000
DTEND:20150614T130000
LOCATION:Eingang zum Ostfriedhof -Tegernseer Landstr/Ecke Sankt-Bonifatius-Str. 
ORGANIZER:MVHS München Mitte   
END:VEVENT
END:VCALENDAR